BEGIN:VCALENDAR
VERSION:2.0
PRODID:-//kyohatsu//JP
CALSCALE:GREGORIAN
BEGIN:VEVENT
DTSTART;VALUE=DATE:20260501
SUMMARY:天国からの手紙
DESCRIPTION:ふくおかしんや 文芸社
UID:9784286275970@kyohatsu.lb-product.com
END:VEVENT
BEGIN:VEVENT
DTSTART;VALUE=DATE:20260501
SUMMARY:キャプテン桐島
DESCRIPTION:ふくおかしんや 文芸社
UID:9784286275987@kyohatsu.lb-product.com
END:VEVENT
END:VCALENDAR
