BEGIN:VCALENDAR
VERSION:2.0
PRODID:-//kyohatsu//JP
CALSCALE:GREGORIAN
BEGIN:VEVENT
DTSTART;VALUE=DATE:20260522
SUMMARY:月華国奇医伝　第十五巻（15）
DESCRIPTION:ひむか　透留 KADOKAWA
UID:9784041174555@kyohatsu.lb-product.com
END:VEVENT
END:VCALENDAR
