BEGIN:VCALENDAR
VERSION:2.0
PRODID:-//kyohatsu//JP
CALSCALE:GREGORIAN
BEGIN:VEVENT
DTSTART;VALUE=DATE:20260617
SUMMARY:ホの字の女
DESCRIPTION:はりま美香 日本コロムビア(株)
UID:4549767372815@kyohatsu.lb-product.com
END:VEVENT
END:VCALENDAR
