BEGIN:VCALENDAR
VERSION:2.0
PRODID:-//kyohatsu//JP
CALSCALE:GREGORIAN
BEGIN:VEVENT
DTSTART;VALUE=DATE:20260601
SUMMARY:パシュラル先生のゆめ
DESCRIPTION:はらだたけひで 冨山房インターナショナル
UID:9784866001470@kyohatsu.lb-product.com
END:VEVENT
END:VCALENDAR
