BEGIN:VCALENDAR
VERSION:2.0
PRODID:-//kyohatsu//JP
CALSCALE:GREGORIAN
BEGIN:VEVENT
DTSTART;VALUE=DATE:20260605
SUMMARY:初恋のゆくえは二度目のキスから
DESCRIPTION:はなだえーこ シュークリーム
UID:9784868460183@kyohatsu.lb-product.com
END:VEVENT
END:VCALENDAR
