BEGIN:VCALENDAR
VERSION:2.0
PRODID:-//kyohatsu//JP
CALSCALE:GREGORIAN
BEGIN:VEVENT
DTSTART;VALUE=DATE:20260615
SUMMARY:えっちすけっち吸血鬼　あの子に一途にあっちっち　1
DESCRIPTION:はてな 少年画報社
UID:9784785982171@kyohatsu.lb-product.com
END:VEVENT
END:VCALENDAR
