BEGIN:VCALENDAR
VERSION:2.0
PRODID:-//kyohatsu//JP
CALSCALE:GREGORIAN
BEGIN:VEVENT
DTSTART;VALUE=DATE:20260525
SUMMARY:運命だから諦めて？ 3
DESCRIPTION:はちのじ 集英社
UID:9784088552651@kyohatsu.lb-product.com
END:VEVENT
END:VCALENDAR
