BEGIN:VCALENDAR
VERSION:2.0
PRODID:-//kyohatsu//JP
CALSCALE:GREGORIAN
BEGIN:VEVENT
DTSTART;VALUE=DATE:20260522
SUMMARY:ねぇ先生、こっち向いて 1
DESCRIPTION:はかた フロンティアワークス
UID:9784866579276@kyohatsu.lb-product.com
END:VEVENT
END:VCALENDAR
