BEGIN:VCALENDAR
VERSION:2.0
PRODID:-//kyohatsu//JP
CALSCALE:GREGORIAN
BEGIN:VEVENT
DTSTART;VALUE=DATE:20260527
SUMMARY:お兄ちゃんはおしまい！ (11)
DESCRIPTION:ねことうふ 一迅社
UID:9784758099080@kyohatsu.lb-product.com
END:VEVENT
BEGIN:VEVENT
DTSTART;VALUE=DATE:20260527
SUMMARY:お兄ちゃんはおしまい！ (11)　特装版
DESCRIPTION:ねことうふ 一迅社
UID:9784758099097@kyohatsu.lb-product.com
END:VEVENT
END:VCALENDAR
