BEGIN:VCALENDAR
VERSION:2.0
PRODID:-//kyohatsu//JP
CALSCALE:GREGORIAN
BEGIN:VEVENT
DTSTART;VALUE=DATE:20260609
SUMMARY:WIND　BREAKER（26）
DESCRIPTION:にい さとる 講談社
UID:9784065438817@kyohatsu.lb-product.com
END:VEVENT
END:VCALENDAR
