BEGIN:VCALENDAR
VERSION:2.0
PRODID:-//kyohatsu//JP
CALSCALE:GREGORIAN
BEGIN:VEVENT
DTSTART;VALUE=DATE:20260508
SUMMARY:ぞうくんのはじめてのえんそく
DESCRIPTION:ながしまひろみ アリス館
UID:9784752011859@kyohatsu.lb-product.com
END:VEVENT
END:VCALENDAR
