BEGIN:VCALENDAR
VERSION:2.0
PRODID:-//kyohatsu//JP
CALSCALE:GREGORIAN
BEGIN:VEVENT
DTSTART;VALUE=DATE:20260623
SUMMARY:令和のダラさん 8
DESCRIPTION:ともつか　治臣 KADOKAWA
UID:9784046602497@kyohatsu.lb-product.com
END:VEVENT
END:VCALENDAR
