BEGIN:VCALENDAR
VERSION:2.0
PRODID:-//kyohatsu//JP
CALSCALE:GREGORIAN
BEGIN:VEVENT
DTSTART;VALUE=DATE:20260617
SUMMARY:横丁はしご酒
DESCRIPTION:ともかず (株)ホリデージャパン
UID:4549767201870@kyohatsu.lb-product.com
END:VEVENT
END:VCALENDAR
