BEGIN:VCALENDAR
VERSION:2.0
PRODID:-//kyohatsu//JP
CALSCALE:GREGORIAN
BEGIN:VEVENT
DTSTART;VALUE=DATE:20260601
SUMMARY:こうして恋はつづいてく
DESCRIPTION:ときたほのじ KADOKAWA
UID:9784041173022@kyohatsu.lb-product.com
END:VEVENT
END:VCALENDAR
