BEGIN:VCALENDAR
VERSION:2.0
PRODID:-//kyohatsu//JP
CALSCALE:GREGORIAN
BEGIN:VEVENT
DTSTART;VALUE=DATE:20260701
SUMMARY:あなたに触れたいだけなのに（1）
DESCRIPTION:つぐみ屋 KADOKAWA
UID:9784046602329@kyohatsu.lb-product.com
END:VEVENT
END:VCALENDAR
