BEGIN:VCALENDAR
VERSION:2.0
PRODID:-//kyohatsu//JP
CALSCALE:GREGORIAN
BEGIN:VEVENT
DTSTART;VALUE=DATE:20260529
SUMMARY:こころが広がる・せかいが広がる　絵でみる名作ものがたり
DESCRIPTION:ちば かおり 新紀元社
UID:9784775320396@kyohatsu.lb-product.com
END:VEVENT
END:VCALENDAR
