BEGIN:VCALENDAR
VERSION:2.0
PRODID:-//kyohatsu//JP
CALSCALE:GREGORIAN
BEGIN:VEVENT
DTSTART;VALUE=DATE:20260522
SUMMARY:アガリビトの後始末　1
DESCRIPTION:たもつ　葉子 KADOKAWA
UID:9784041174685@kyohatsu.lb-product.com
END:VEVENT
END:VCALENDAR
