BEGIN:VCALENDAR
VERSION:2.0
PRODID:-//kyohatsu//JP
CALSCALE:GREGORIAN
BEGIN:VEVENT
DTSTART;VALUE=DATE:20260601
SUMMARY:龍河くんは受け止めきれない
DESCRIPTION:たまむしマン リブレ
UID:9784799778234@kyohatsu.lb-product.com
END:VEVENT
END:VCALENDAR
