BEGIN:VCALENDAR
VERSION:2.0
PRODID:-//kyohatsu//JP
CALSCALE:GREGORIAN
BEGIN:VEVENT
DTSTART;VALUE=DATE:20260605
SUMMARY:しもべの王子様 1
DESCRIPTION:たつもとみお ハーパーコリンズ・ジャパン
UID:9784302609864@kyohatsu.lb-product.com
END:VEVENT
END:VCALENDAR
