BEGIN:VCALENDAR
VERSION:2.0
PRODID:-//kyohatsu//JP
CALSCALE:GREGORIAN
BEGIN:VEVENT
DTSTART;VALUE=DATE:20260619
SUMMARY:ひとまず恋に慣れさせてください 2
DESCRIPTION:たきどん 白泉社
UID:9784592225867@kyohatsu.lb-product.com
END:VEVENT
END:VCALENDAR
