BEGIN:VCALENDAR
VERSION:2.0
PRODID:-//kyohatsu//JP
CALSCALE:GREGORIAN
BEGIN:VEVENT
DTSTART;VALUE=DATE:20260623
SUMMARY:いくばくか〜承認の渇求〜（1）
DESCRIPTION:たかうま 創 講談社
UID:9784065441237@kyohatsu.lb-product.com
END:VEVENT
END:VCALENDAR
