BEGIN:VCALENDAR
VERSION:2.0
PRODID:-//kyohatsu//JP
CALSCALE:GREGORIAN
BEGIN:VEVENT
DTSTART;VALUE=DATE:20260513
SUMMARY:せなけいこのてのひらえほん（3点各5冊セット）
DESCRIPTION:せな　けいこ ポプラ社
UID:9784591922729@kyohatsu.lb-product.com
END:VEVENT
BEGIN:VEVENT
DTSTART;VALUE=DATE:20260513
SUMMARY:はーくしょい　ボードブック
DESCRIPTION:せな　けいこ ポプラ社
UID:9784591189795@kyohatsu.lb-product.com
END:VEVENT
BEGIN:VEVENT
DTSTART;VALUE=DATE:20260513
SUMMARY:はみがきさん　ボードブック
DESCRIPTION:せな　けいこ ポプラ社
UID:9784591189771@kyohatsu.lb-product.com
END:VEVENT
BEGIN:VEVENT
DTSTART;VALUE=DATE:20260513
SUMMARY:おふろにいれて　ボードブック
DESCRIPTION:せな　けいこ ポプラ社
UID:9784591189788@kyohatsu.lb-product.com
END:VEVENT
END:VCALENDAR
