BEGIN:VCALENDAR
VERSION:2.0
PRODID:-//kyohatsu//JP
CALSCALE:GREGORIAN
BEGIN:VEVENT
DTSTART;VALUE=DATE:20260710
SUMMARY:とにかく珈琲が飲みたいのです！ 3〜転生少女は至福の一杯のため、大商人に成り上がります〜
DESCRIPTION:すおう契月 TOブックス
UID:9784868540540@kyohatsu.lb-product.com
END:VEVENT
END:VCALENDAR
