BEGIN:VCALENDAR
VERSION:2.0
PRODID:-//kyohatsu//JP
CALSCALE:GREGORIAN
BEGIN:VEVENT
DTSTART;VALUE=DATE:20260525
SUMMARY:キスは捜査のあとで アゲイン
DESCRIPTION:すう Jパブリッシング
UID:9784866698557@kyohatsu.lb-product.com
END:VEVENT
END:VCALENDAR
