BEGIN:VCALENDAR
VERSION:2.0
PRODID:-//kyohatsu//JP
CALSCALE:GREGORIAN
BEGIN:VEVENT
DTSTART;VALUE=DATE:20260610
SUMMARY:新しいゲーム始めました。〜使命もないのに最強です？〜12
DESCRIPTION:じゃがバター TOブックス
UID:9784868540212@kyohatsu.lb-product.com
END:VEVENT
END:VCALENDAR
