BEGIN:VCALENDAR
VERSION:2.0
PRODID:-//kyohatsu//JP
CALSCALE:GREGORIAN
BEGIN:VEVENT
DTSTART;VALUE=DATE:20260525
SUMMARY:魔法少女勧誘失敗プイチョ！ （1）
DESCRIPTION:しけたいぬ スクウェア・エニックス
UID:9784301005421@kyohatsu.lb-product.com
END:VEVENT
END:VCALENDAR
