BEGIN:VCALENDAR
VERSION:2.0
PRODID:-//kyohatsu//JP
CALSCALE:GREGORIAN
BEGIN:VEVENT
DTSTART;VALUE=DATE:20260605
SUMMARY:ラストバトルのそのあとで レベル99のズタボロ勇者はメンタルケアの旅に出る（1）
DESCRIPTION:さーもにずむ コアミックス
UID:9784867208816@kyohatsu.lb-product.com
END:VEVENT
END:VCALENDAR
