BEGIN:VCALENDAR
VERSION:2.0
PRODID:-//kyohatsu//JP
CALSCALE:GREGORIAN
BEGIN:VEVENT
DTSTART;VALUE=DATE:20260701
SUMMARY:ケニアの道端にライオンはいない。 住んで初めてわかったアフリカの話
DESCRIPTION:さとこ国立公園 KADOKAWA
UID:9784046079954@kyohatsu.lb-product.com
END:VEVENT
END:VCALENDAR
