BEGIN:VCALENDAR
VERSION:2.0
PRODID:-//kyohatsu//JP
CALSCALE:GREGORIAN
BEGIN:VEVENT
DTSTART;VALUE=DATE:20260509
SUMMARY:私を貶（けな）してください　 屈辱を燃料にして、 成功をつかむ逆転戦略
DESCRIPTION:さぎり(SAGIRIX） さくら舎
UID:9784865814972@kyohatsu.lb-product.com
END:VEVENT
END:VCALENDAR
