BEGIN:VCALENDAR
VERSION:2.0
PRODID:-//kyohatsu//JP
CALSCALE:GREGORIAN
BEGIN:VEVENT
DTSTART;VALUE=DATE:20260519
SUMMARY:あまがえる
DESCRIPTION:こがようこ 大日本図書
UID:9784477035789@kyohatsu.lb-product.com
END:VEVENT
END:VCALENDAR
