BEGIN:VCALENDAR
VERSION:2.0
PRODID:-//kyohatsu//JP
CALSCALE:GREGORIAN
BEGIN:VEVENT
DTSTART;VALUE=DATE:20260520
SUMMARY:超科学完全版　引き寄せの法則 疑い深い人のための願いをかなえる全技法
DESCRIPTION:くろ丸。 KADOKAWA
UID:9784046079589@kyohatsu.lb-product.com
END:VEVENT
END:VCALENDAR
