BEGIN:VCALENDAR
VERSION:2.0
PRODID:-//kyohatsu//JP
CALSCALE:GREGORIAN
BEGIN:VEVENT
DTSTART;VALUE=DATE:20260609
SUMMARY:おれは美少女VTuber（1）
DESCRIPTION:くろだ まめた 講談社
UID:9784065441695@kyohatsu.lb-product.com
END:VEVENT
END:VCALENDAR
