BEGIN:VCALENDAR
VERSION:2.0
PRODID:-//kyohatsu//JP
CALSCALE:GREGORIAN
BEGIN:VEVENT
DTSTART;VALUE=DATE:20260605
SUMMARY:搾り取らないで、女商人さん!!　EX
DESCRIPTION:くつがえる 竹書房
UID:9784801989818@kyohatsu.lb-product.com
END:VEVENT
BEGIN:VEVENT
DTSTART;VALUE=DATE:20260605
SUMMARY:搾り取らないで、女商人さん!!（12）
DESCRIPTION:くつがえる 竹書房
UID:9784801989801@kyohatsu.lb-product.com
END:VEVENT
END:VCALENDAR
