BEGIN:VCALENDAR
VERSION:2.0
PRODID:-//kyohatsu//JP
CALSCALE:GREGORIAN
BEGIN:VEVENT
DTSTART;VALUE=DATE:20260612
SUMMARY:黒歴史クラブ（2）
DESCRIPTION:かなた るい 講談社
UID:9784065431412@kyohatsu.lb-product.com
END:VEVENT
END:VCALENDAR
