BEGIN:VCALENDAR
VERSION:2.0
PRODID:-//kyohatsu//JP
CALSCALE:GREGORIAN
BEGIN:VEVENT
DTSTART;VALUE=DATE:20260509
SUMMARY:紙芝居てんぐのはなはな
DESCRIPTION:かこ　さとし 童心社
UID:9784494094752@kyohatsu.lb-product.com
END:VEVENT
END:VCALENDAR
