BEGIN:VCALENDAR
VERSION:2.0
PRODID:-//kyohatsu//JP
CALSCALE:GREGORIAN
BEGIN:VEVENT
DTSTART;VALUE=DATE:20260610
SUMMARY:お文具といっしょ　その12
DESCRIPTION:お文具 講談社
UID:9784065438626@kyohatsu.lb-product.com
END:VEVENT
END:VCALENDAR
