BEGIN:VCALENDAR
VERSION:2.0
PRODID:-//kyohatsu//JP
CALSCALE:GREGORIAN
BEGIN:VEVENT
DTSTART;VALUE=DATE:20260527
SUMMARY:湯の里・千曲野慕情/松本城に雨が降る
DESCRIPTION:おかちまちこ UPCレコード
UID:4582500639851@kyohatsu.lb-product.com
END:VEVENT
END:VCALENDAR
