BEGIN:VCALENDAR
VERSION:2.0
PRODID:-//kyohatsu//JP
CALSCALE:GREGORIAN
BEGIN:VEVENT
DTSTART;VALUE=DATE:20260521
SUMMARY:Lサイズの日々
DESCRIPTION:えるにーにょ KADOKAWA
UID:9784046079411@kyohatsu.lb-product.com
END:VEVENT
END:VCALENDAR
