BEGIN:VCALENDAR
VERSION:2.0
PRODID:-//kyohatsu//JP
CALSCALE:GREGORIAN
BEGIN:VEVENT
DTSTART;VALUE=DATE:20260610
SUMMARY:にじさんじ WORLD TOUR 2025 Singin’ in the Rainbow！横浜公演(通常盤)【Blu-ray】
DESCRIPTION:える、叶、ドーラ、花畑チャイカ、社築、本間ひまわり、葛葉 ANYCOLOR(株)
UID:4573600263541@kyohatsu.lb-product.com
END:VEVENT
END:VCALENDAR
