BEGIN:VCALENDAR
VERSION:2.0
PRODID:-//kyohatsu//JP
CALSCALE:GREGORIAN
BEGIN:VEVENT
DTSTART;VALUE=DATE:20260526
SUMMARY:森ののくまちゃん（7）
DESCRIPTION:えびな しお 小学館
UID:9784098734412@kyohatsu.lb-product.com
END:VEVENT
END:VCALENDAR
