BEGIN:VCALENDAR
VERSION:2.0
PRODID:-//kyohatsu//JP
CALSCALE:GREGORIAN
BEGIN:VEVENT
DTSTART;VALUE=DATE:20260430
SUMMARY:ハッピー急上昇アクション 365日運氣全開になるエナジーの法則
DESCRIPTION:えなじー（小林　永奈） KADOKAWA
UID:9784046080141@kyohatsu.lb-product.com
END:VEVENT
END:VCALENDAR
