BEGIN:VCALENDAR
VERSION:2.0
PRODID:-//kyohatsu//JP
CALSCALE:GREGORIAN
BEGIN:VEVENT
DTSTART;VALUE=DATE:20260520
SUMMARY:娘に整形したいと言われたら
DESCRIPTION:うみの　韻花 KADOKAWA
UID:9784046856562@kyohatsu.lb-product.com
END:VEVENT
END:VCALENDAR
