BEGIN:VCALENDAR
VERSION:2.0
PRODID:-//kyohatsu//JP
CALSCALE:GREGORIAN
BEGIN:VEVENT
DTSTART;VALUE=DATE:20260629
SUMMARY:1946年の女子塁球部（1）
DESCRIPTION:うえむら　ちか KADOKAWA
UID:9784048119825@kyohatsu.lb-product.com
END:VEVENT
END:VCALENDAR
