BEGIN:VCALENDAR
VERSION:2.0
PRODID:-//kyohatsu//JP
CALSCALE:GREGORIAN
BEGIN:VEVENT
DTSTART;VALUE=DATE:20260428
SUMMARY:今夜、きみの声が聴こえる〜この雨が止む前に〜
DESCRIPTION:いぬじゅん スターツ出版
UID:9784813719199@kyohatsu.lb-product.com
END:VEVENT
BEGIN:VEVENT
DTSTART;VALUE=DATE:20260511
SUMMARY:ケアマネ！　2
DESCRIPTION:いぬじゅん ステキブックス
UID:9784434377518@kyohatsu.lb-product.com
END:VEVENT
END:VCALENDAR
