BEGIN:VCALENDAR
VERSION:2.0
PRODID:-//kyohatsu//JP
CALSCALE:GREGORIAN
BEGIN:VEVENT
DTSTART;VALUE=DATE:20260718
SUMMARY:いしだあゆみ【完全生産限定アナログ盤】
DESCRIPTION:いしだあゆみ (株)ソニー・ミュージックダイレクト
UID:4547366799989@kyohatsu.lb-product.com
END:VEVENT
END:VCALENDAR
