BEGIN:VCALENDAR
VERSION:2.0
PRODID:-//kyohatsu//JP
CALSCALE:GREGORIAN
BEGIN:VEVENT
DTSTART;VALUE=DATE:20260529
SUMMARY:【楽天ブックス限定特典】わたしは猫のように生きたい。(ステッカー)
DESCRIPTION:いけちゃん\\, クロスメディア・パブリッシング
UID:2100014872049@kyohatsu.lb-product.com
END:VEVENT
END:VCALENDAR
