BEGIN:VCALENDAR
VERSION:2.0
PRODID:-//kyohatsu//JP
CALSCALE:GREGORIAN
BEGIN:VEVENT
DTSTART;VALUE=DATE:20260601
SUMMARY:エッジバトル・マネーショット
DESCRIPTION:いがよ賄 ジーオーティー
UID:9784823610707@kyohatsu.lb-product.com
END:VEVENT
END:VCALENDAR
