BEGIN:VCALENDAR
VERSION:2.0
PRODID:-//kyohatsu//JP
CALSCALE:GREGORIAN
BEGIN:VEVENT
DTSTART;VALUE=DATE:20260522
SUMMARY:ゆかりくんはギャップがずるい　2
DESCRIPTION:あんどうまみ ハーパーコリンズ・ジャパン
UID:9784302118021@kyohatsu.lb-product.com
END:VEVENT
END:VCALENDAR
