BEGIN:VCALENDAR
VERSION:2.0
PRODID:-//kyohatsu//JP
CALSCALE:GREGORIAN
BEGIN:VEVENT
DTSTART;VALUE=DATE:20260525
SUMMARY:一式さんは恋を知りたい。 （10）
DESCRIPTION:あららぎ　あゆね KADOKAWA
UID:9784041174388@kyohatsu.lb-product.com
END:VEVENT
END:VCALENDAR
