BEGIN:VCALENDAR
VERSION:2.0
PRODID:-//kyohatsu//JP
CALSCALE:GREGORIAN
BEGIN:VEVENT
DTSTART;VALUE=DATE:20260527
SUMMARY:さきがけ女性自衛官 はじめて物語
DESCRIPTION:あまの　すみ KADOKAWA
UID:9784045001376@kyohatsu.lb-product.com
END:VEVENT
END:VCALENDAR
